BEGIN:VCALENDAR
VERSION:2.0
PRODID:-//wp-events-plugin.com//7.2.3.1//EN
TZID:Europe/Berlin
X-WR-TIMEZONE:Europe/Berlin
BEGIN:VEVENT
UID:554@mec-nuernberg.de
DTSTART;TZID=Europe/Berlin:20260426T000000
DTEND;TZID=Europe/Berlin:20260426T000000
DTSTAMP:20260325T084224Z
URL:https://www.mec-nuernberg.de/2021/events/auflug-der-kidsgruppe-zur-jag
 sttalbahn/
SUMMARY:Auflug der Kidsgruppe zur Jagsttalbahn
DESCRIPTION:Orga und Info über Haymo Bauder\n\nEs dürfen auch erwachsene 
 Clubmitglieder mitfahren
CATEGORIES:Ausflug
END:VEVENT
BEGIN:VTIMEZONE
TZID:Europe/Berlin
X-LIC-LOCATION:Europe/Berlin
BEGIN:DAYLIGHT
DTSTART:20260329T030000
TZOFFSETFROM:+0100
TZOFFSETTO:+0200
TZNAME:CEST
END:DAYLIGHT
END:VTIMEZONE
END:VCALENDAR